BEGIN:VCALENDAR
VERSION:2.0
PRODID:-//hacksw/handcal//NONSGML v1.0//EN
BEGIN:VEVENT
UID:webmaster@cooper.edu
DTSTAMP; TZID=America/New_York:20210309T120000
ORGANIZER;CN=The Cooper Union:MAILTO:webmaster@cooper.edu
DTSTART; TZID=America/New_York:20210309T120000
DTEND; TZID=America/New_York:20210309T140000
SUMMARY:Entanglements | Robert Johnson + Austin Wade Smith: Fatconomy and the material underground - consume, waste, harvest, produce
DESCRIPTION:
END:VEVENT
END:VCALENDAR
