BEGIN:VCALENDAR
VERSION:2.0
PRODID:-//hacksw/handcal//NONSGML v1.0//EN
BEGIN:VEVENT
UID:webmaster@cooper.edu
DTSTAMP; TZID=America/New_York:20210216T120000
ORGANIZER;CN=The Cooper Union:MAILTO:webmaster@cooper.edu
DTSTART; TZID=America/New_York:20210216T120000
DTEND; TZID=America/New_York:20210216T140000
SUMMARY:Visiting Lecture | Mason White + Lola Sheppard: Piles, Drifts, Freezers, and Icebreakers
DESCRIPTION:Mason White will present the work of Lateral Office followed by a public discussion.&nbsp;
END:VEVENT
END:VCALENDAR
