BEGIN:VCALENDAR
VERSION:2.0
PRODID:-//hacksw/handcal//NONSGML v1.0//EN
BEGIN:VEVENT
UID:webmaster@cooper.edu
DTSTAMP; TZID=America/New_York:20210302T120000
ORGANIZER;CN=The Cooper Union:MAILTO:webmaster@cooper.edu
DTSTART; TZID=America/New_York:20210302T120000
DTEND; TZID=America/New_York:20210302T140000
SUMMARY:Visiting Lecture | Nerea Calvillo: Feminist Sensing to Land in Aeropolis
DESCRIPTION:Nerea Calvillo will present her work in a public lecture.
END:VEVENT
END:VCALENDAR
