BEGIN:VCALENDAR
VERSION:2.0
PRODID:-//hacksw/handcal//NONSGML v1.0//EN
BEGIN:VEVENT
UID:webmaster@cooper.edu
DTSTAMP; TZID=America/New_York:20210126T183000
ORGANIZER;CN=The Cooper Union:MAILTO:webmaster@cooper.edu
DTSTART; TZID=America/New_York:20210126T183000
DTEND; TZID=America/New_York:20210126T203000
SUMMARY:Visiting Lecture | Julia Watson: Design by Radical Indigenism
DESCRIPTION:Julia Watson will present her work in a public lecture joined by respondent Elisa Iturbe.
END:VEVENT
END:VCALENDAR
