BEGIN:VCALENDAR
VERSION:2.0
PRODID:-//hacksw/handcal//NONSGML v1.0//EN
BEGIN:VEVENT
UID:webmaster@cooper.edu
DTSTAMP; TZID=America/New_York:20210120T130000
ORGANIZER;CN=The Cooper Union:MAILTO:webmaster@cooper.edu
DTSTART; TZID=America/New_York:20210120T130000
DTEND; TZID=America/New_York:20210120T170000
SUMMARY:Spring 2021 All School Assembly
DESCRIPTION:The School of Architecture Convocation introduces&nbsp;the Spring Semester faculty, courses, and public programs.&nbsp;
END:VEVENT
END:VCALENDAR
