BEGIN:VCALENDAR
VERSION:2.0
PRODID:-//hacksw/handcal//NONSGML v1.0//EN
BEGIN:VEVENT
UID:webmaster@cooper.edu
DTSTAMP; TZID=America/New_York:20201116T140000
ORGANIZER;CN=The Cooper Union:MAILTO:webmaster@cooper.edu
DTSTART; TZID=America/New_York:20201116T140000
DTEND; TZID=America/New_York:20201116T153000
SUMMARY:In-Class Guest Lecture | De-Carbonization: Rammed Earth, Martin Haas and Thomas Auer
DESCRIPTION:Martin Haas and Thomas Auer will present their work torwards carbon neutrality.
END:VEVENT
END:VCALENDAR
