BEGIN:VCALENDAR
VERSION:2.0
PRODID:-//hacksw/handcal//NONSGML v1.0//EN
BEGIN:VEVENT
UID:webmaster@cooper.edu
DTSTAMP; TZID=America/New_York:20201113T170000
ORGANIZER;CN=The Cooper Union:MAILTO:webmaster@cooper.edu
DTSTART; TZID=America/New_York:20201113T170000
DTEND; TZID=America/New_York:20210115T170000
SUMMARY: Remembering Milton Glaser, Class of 1951 
DESCRIPTION:An exhibition in the colonnade windows of the&nbsp;Foundation Building&nbsp;celebrates the work of one of the most influential graphic designers of the 20th century
END:VEVENT
END:VCALENDAR
