BEGIN:VCALENDAR
VERSION:2.0
PRODID:-//hacksw/handcal//NONSGML v1.0//EN
BEGIN:VEVENT
UID:webmaster@cooper.edu
DTSTAMP; TZID=America/New_York:20201118T170000
ORGANIZER;CN=The Cooper Union:MAILTO:webmaster@cooper.edu
DTSTART; TZID=America/New_York:20201118T170000
DTEND; TZID=America/New_York:20201118T180000
SUMMARY:Living Liberation
DESCRIPTION:In a lecture subtitled, "Dialectical Practice and Micro-Revolutions," Dr.&nbsp;Sandra&nbsp;So Hee Chi&nbsp;Kim&nbsp;speaks about intersectional justice from her perspective as an educator, researcher, and community organizer
END:VEVENT
END:VCALENDAR
