BEGIN:VCALENDAR
VERSION:2.0
PRODID:-//hacksw/handcal//NONSGML v1.0//EN
BEGIN:VEVENT
UID:webmaster@cooper.edu
DTSTAMP; TZID=America/New_York:20201028T130000
ORGANIZER;CN=The Cooper Union:MAILTO:webmaster@cooper.edu
DTSTART; TZID=America/New_York:20201028T130000
DTEND; TZID=America/New_York:20201028T140000
SUMMARY:What's a Syllabus For?
DESCRIPTION:Bill Germano and Kit Nicholls will lead faculty in a discussion of how we set goals for our students and ourselves when we craft a syllabus
END:VEVENT
END:VCALENDAR
