BEGIN:VCALENDAR
VERSION:2.0
PRODID:-//hacksw/handcal//NONSGML v1.0//EN
BEGIN:VEVENT
UID:webmaster@cooper.edu
DTSTAMP; TZID=America/New_York:20200929T180000
ORGANIZER;CN=The Cooper Union:MAILTO:webmaster@cooper.edu
DTSTART; TZID=America/New_York:20200929T180000
DTEND; TZID=America/New_York:20200929T190000
SUMMARY:Cooper X Climate Week | Ways of Seeing Green: Michael Wang, Nick Lutsko + Gillian Shaffer
DESCRIPTION:As part of Cooper Union x Climate Week, Michael Wang, an artist, Nick Lutsko, a climate scientist, and Gillian Shaffer, an architect, discuss how the intersection of their professional practices will be crucial in rendering a livable and just future
END:VEVENT
END:VCALENDAR
