BEGIN:VCALENDAR
VERSION:2.0
PRODID:-//hacksw/handcal//NONSGML v1.0//EN
BEGIN:VEVENT
UID:webmaster@cooper.edu
DTSTAMP; TZID=America/New_York:20201006T183000
ORGANIZER;CN=The Cooper Union:MAILTO:webmaster@cooper.edu
DTSTART; TZID=America/New_York:20201006T183000
DTEND; TZID=America/New_York:20201006T203000
SUMMARY:Visiting Lecture | Ellie Abrons and Meredith Miller, T+E+A+M
DESCRIPTION:Meredith Miller and Ellie Abrons from&nbsp;T+E+A+M will present on their work.&nbsp;
END:VEVENT
END:VCALENDAR
