BEGIN:VCALENDAR
VERSION:2.0
PRODID:-//hacksw/handcal//NONSGML v1.0//EN
BEGIN:VEVENT
UID:webmaster@cooper.edu
DTSTAMP; TZID=America/New_York:20201124T120000
ORGANIZER;CN=The Cooper Union:MAILTO:webmaster@cooper.edu
DTSTART; TZID=America/New_York:20201124T120000
DTEND; TZID=America/New_York:20201124T140000
SUMMARY:Visiting Lecture | Sumayya Vally, Counterspace Studio: Counterpoints
DESCRIPTION:Based in Johannesburg, Sumayya Vally's design, research and pedagogical practice is committed to finding expression for hybrid identities and contested territories
END:VEVENT
END:VCALENDAR
