BEGIN:VCALENDAR
VERSION:2.0
PRODID:-//hacksw/handcal//NONSGML v1.0//EN
BEGIN:VEVENT
UID:webmaster@cooper.edu
DTSTAMP; TZID=America/New_York:20201113T183000
ORGANIZER;CN=The Cooper Union:MAILTO:webmaster@cooper.edu
DTSTART; TZID=America/New_York:20201113T183000
DTEND; TZID=America/New_York:20201113T203000
SUMMARY:Student Lecture Series | Aleksandr Mergold: Un-appealing
DESCRIPTION:Aleksandr Mergold will present a lecture on his work.&nbsp;
END:VEVENT
END:VCALENDAR
