BEGIN:VCALENDAR
VERSION:2.0
PRODID:-//hacksw/handcal//NONSGML v1.0//EN
BEGIN:VEVENT
UID:webmaster@cooper.edu
DTSTAMP; TZID=America/New_York:20200921T170000
ORGANIZER;CN=The Cooper Union:MAILTO:webmaster@cooper.edu
DTSTART; TZID=America/New_York:20200921T170000
DTEND; TZID=America/New_York:20200921T180000
SUMMARY:Art in a Time of Crisis: Excavating the Past, Confronting the Present, Imagining the Future
DESCRIPTION:
END:VEVENT
END:VCALENDAR
