BEGIN:VCALENDAR
VERSION:2.0
PRODID:-//hacksw/handcal//NONSGML v1.0//EN
BEGIN:VEVENT
UID:webmaster@cooper.edu
DTSTAMP; TZID=America/New_York:20200928T180000
ORGANIZER;CN=The Cooper Union:MAILTO:webmaster@cooper.edu
DTSTART; TZID=America/New_York:20200928T180000
DTEND; TZID=America/New_York:20200928T193000
SUMMARY:Science for Liberation 
DESCRIPTION:Engineers Omar Gowayed and Kendra Krueger discuss how&nbsp;activism shapes their research
END:VEVENT
END:VCALENDAR
