BEGIN:VCALENDAR
VERSION:2.0
PRODID:-//hacksw/handcal//NONSGML v1.0//EN
BEGIN:VEVENT
UID:webmaster@cooper.edu
DTSTAMP; TZID=America/New_York:20200924T121500
ORGANIZER;CN=The Cooper Union:MAILTO:webmaster@cooper.edu
DTSTART; TZID=America/New_York:20200924T121500
DTEND; TZID=America/New_York:20200924T133000
SUMMARY:Global Green New Deals
DESCRIPTION:A conversation&nbsp;on the future of international climate policy in the wake of ever-accelerating ecological timelines
END:VEVENT
END:VCALENDAR
