BEGIN:VCALENDAR
VERSION:2.0
PRODID:-//hacksw/handcal//NONSGML v1.0//EN
BEGIN:VEVENT
UID:webmaster@cooper.edu
DTSTAMP; TZID=America/New_York:20200922T190000
ORGANIZER;CN=The Cooper Union:MAILTO:webmaster@cooper.edu
DTSTART; TZID=America/New_York:20200922T190000
DTEND; TZID=America/New_York:20200922T203000
SUMMARY:Nicholas Galanin, "Shadow on the Land"
DESCRIPTION:A Tlingit/Unangax̂/multi-disciplinary artist,&nbsp;Nicholas Galanin&nbsp;delivers an online free, public lecture as part of the&nbsp;Intra-Disciplinary Seminar&nbsp;series
END:VEVENT
END:VCALENDAR
