BEGIN:VCALENDAR
VERSION:2.0
PRODID:-//hacksw/handcal//NONSGML v1.0//EN
BEGIN:VEVENT
UID:webmaster@cooper.edu
DTSTAMP; TZID=America/New_York:20200824T170000
ORGANIZER;CN=The Cooper Union:MAILTO:webmaster@cooper.edu
DTSTART; TZID=America/New_York:20200824T170000
DTEND; TZID=America/New_York:20200824T180000
SUMMARY:Art in a Time of Crisis: Reflections on Healing, Recovery, and Rebuilding
DESCRIPTION:Artists Arielle Bobb-Willis, Nate Lewis, and Sharon Madanes in conversation as part of Public Art Fund Virtual Talks
END:VEVENT
END:VCALENDAR
