BEGIN:VCALENDAR
VERSION:2.0
PRODID:-//hacksw/handcal//NONSGML v1.0//EN
BEGIN:VEVENT
UID:webmaster@cooper.edu
DTSTAMP; TZID=America/New_York:20200423T183000
ORGANIZER;CN=The Cooper Union:MAILTO:webmaster@cooper.edu
DTSTART; TZID=America/New_York:20200423T183000
DTEND; TZID=America/New_York:20200423T203000
SUMMARY:Remote Lecture | Andrea Simitch: Context Matters - Pedagogy in an Expanding Landscape
DESCRIPTION:Andrea Simitch will present her work through a Zoom conversation.&nbsp;
END:VEVENT
END:VCALENDAR
